BEGIN:VCALENDAR
VERSION:2.0
PRODID:-//The Big Reno Show - ECPv6.15.20//NONSGML v1.0//EN
CALSCALE:GREGORIAN
METHOD:PUBLISH
X-WR-CALNAME:The Big Reno Show
X-ORIGINAL-URL:https://bigrenoshow.com
X-WR-CALDESC:Events for The Big Reno Show
REFRESH-INTERVAL;VALUE=DURATION:PT1H
X-Robots-Tag:noindex
X-PUBLISHED-TTL:PT1H
BEGIN:VTIMEZONE
TZID:America/Los_Angeles
BEGIN:DAYLIGHT
TZOFFSETFROM:-0800
TZOFFSETTO:-0700
TZNAME:PDT
DTSTART:20250309T100000
END:DAYLIGHT
BEGIN:STANDARD
TZOFFSETFROM:-0700
TZOFFSETTO:-0800
TZNAME:PST
DTSTART:20251102T090000
END:STANDARD
BEGIN:DAYLIGHT
TZOFFSETFROM:-0800
TZOFFSETTO:-0700
TZNAME:PDT
DTSTART:20260308T100000
END:DAYLIGHT
BEGIN:STANDARD
TZOFFSETFROM:-0700
TZOFFSETTO:-0800
TZNAME:PST
DTSTART:20261101T090000
END:STANDARD
BEGIN:DAYLIGHT
TZOFFSETFROM:-0800
TZOFFSETTO:-0700
TZNAME:PDT
DTSTART:20270314T100000
END:DAYLIGHT
BEGIN:STANDARD
TZOFFSETFROM:-0700
TZOFFSETTO:-0800
TZNAME:PST
DTSTART:20271107T090000
END:STANDARD
END:VTIMEZONE
BEGIN:VEVENT
DTSTART;TZID=America/Los_Angeles:20260821T090000
DTEND;TZID=America/Los_Angeles:20260821T170000
DTSTAMP:20260419T184356
CREATED:20260127T174632Z
LAST-MODIFIED:20260127T183211Z
UID:10000025-1787302800-1787331600@bigrenoshow.com
SUMMARY:The Big Reno Summer Show - Friday\, August 21\, 2026
DESCRIPTION:
URL:https://bigrenoshow.com/event/the-big-reno-summer-show-friday-august-21-2026/
LOCATION:Nugget Casino Resort\, 1100 Nugget Avenue\, Sparks\, NV\, 89431\, United States
CATEGORIES:Summer Show
ATTACH;FMTTYPE=image/png:https://bigrenoshow.com/wp-content/uploads/2026/01/808733211-the-big-reno-show-summer-august-15-2025.png
ORGANIZER;CN="MAC Shows":MAILTO:info@macshows.com
END:VEVENT
BEGIN:VEVENT
DTSTART;TZID=America/Los_Angeles:20260822T090000
DTEND;TZID=America/Los_Angeles:20260822T170000
DTSTAMP:20260419T184356
CREATED:20260127T182528Z
LAST-MODIFIED:20260127T183151Z
UID:10000026-1787389200-1787418000@bigrenoshow.com
SUMMARY:The Big Reno Summer Show - Saturday\, August 22\, 2026
DESCRIPTION:
URL:https://bigrenoshow.com/event/the-big-reno-summer-show-saturday-august-22-2026/
LOCATION:Nugget Casino Resort\, 1100 Nugget Avenue\, Sparks\, NV\, 89431\, United States
CATEGORIES:Summer Show
ATTACH;FMTTYPE=image/png:https://bigrenoshow.com/wp-content/uploads/2026/01/808733217-the-big-reno-show-summer-august-16-2025.png
ORGANIZER;CN="MAC Shows":MAILTO:info@macshows.com
END:VEVENT
BEGIN:VEVENT
DTSTART;TZID=America/Los_Angeles:20260823T090000
DTEND;TZID=America/Los_Angeles:20260823T150000
DTSTAMP:20260419T184356
CREATED:20260127T182534Z
LAST-MODIFIED:20260127T183312Z
UID:10000027-1787475600-1787497200@bigrenoshow.com
SUMMARY:The Big Reno Summer Show - Sunday\, August 23\, 2026
DESCRIPTION:
URL:https://bigrenoshow.com/event/the-big-reno-summer-show-sunday-august-23-2026/
LOCATION:Nugget Casino Resort\, 1100 Nugget Avenue\, Sparks\, NV\, 89431\, United States
CATEGORIES:Summer Show
ATTACH;FMTTYPE=image/png:https://bigrenoshow.com/wp-content/uploads/2026/01/808733221-the-big-reno-show-summer-august-17-2025.png
ORGANIZER;CN="MAC Shows":MAILTO:info@macshows.com
END:VEVENT
BEGIN:VEVENT
DTSTART;TZID=America/Los_Angeles:20261120T090000
DTEND;TZID=America/Los_Angeles:20261120T170000
DTSTAMP:20260419T184356
CREATED:20260127T183834Z
LAST-MODIFIED:20260127T184822Z
UID:10000028-1795165200-1795194000@bigrenoshow.com
SUMMARY:The Big Reno Fall Show - Friday\, November 20\, 2026
DESCRIPTION:
URL:https://bigrenoshow.com/event/the-big-reno-fall-show-friday-november-20-2026/
LOCATION:Nugget Casino Resort\, 1100 Nugget Avenue\, Sparks\, NV\, 89431\, United States
CATEGORIES:Fall Show
ATTACH;FMTTYPE=image/png:https://bigrenoshow.com/wp-content/uploads/2026/01/808734549-the-big-reno-show-fall-november-21-2025.png
ORGANIZER;CN="MAC Shows":MAILTO:info@macshows.com
END:VEVENT
BEGIN:VEVENT
DTSTART;TZID=America/Los_Angeles:20261121T090000
DTEND;TZID=America/Los_Angeles:20261121T170000
DTSTAMP:20260419T184356
CREATED:20260127T184150Z
LAST-MODIFIED:20260127T185059Z
UID:10000029-1795251600-1795280400@bigrenoshow.com
SUMMARY:The Big Reno Fall Show - Saturday\, November 21\, 2026
DESCRIPTION:
URL:https://bigrenoshow.com/event/the-big-reno-fall-show-saturday-november-21-2026/
LOCATION:Nugget Casino Resort\, 1100 Nugget Avenue\, Sparks\, NV\, 89431\, United States
CATEGORIES:Fall Show
ATTACH;FMTTYPE=image/png:https://bigrenoshow.com/wp-content/uploads/2026/01/808734553-the-big-reno-show-fall-november-22-2025.png
ORGANIZER;CN="MAC Shows":MAILTO:info@macshows.com
END:VEVENT
BEGIN:VEVENT
DTSTART;TZID=America/Los_Angeles:20261122T090000
DTEND;TZID=America/Los_Angeles:20261122T170000
DTSTAMP:20260419T184356
CREATED:20260127T184431Z
LAST-MODIFIED:20260127T185101Z
UID:10000030-1795338000-1795366800@bigrenoshow.com
SUMMARY:The Big Reno Fall Show - Sunday\, November 22\, 2026
DESCRIPTION:
URL:https://bigrenoshow.com/event/the-big-reno-fall-show-sunday-november-22-2026/
LOCATION:Nugget Casino Resort\, 1100 Nugget Avenue\, Sparks\, NV\, 89431\, United States
CATEGORIES:Fall Show
ATTACH;FMTTYPE=image/png:https://bigrenoshow.com/wp-content/uploads/2026/01/808734550-the-big-reno-show-fall-november-23-2025.png
ORGANIZER;CN="MAC Shows":MAILTO:info@macshows.com
END:VEVENT
END:VCALENDAR